BEGIN:VCALENDAR
VERSION:2.0
PRODID:SchoolNow
CALSCALE:GREGORIAN
BEGIN:VEVENT
UID:09413aca-05f4-11f1-ac05-0e598b931679
DTSTAMP:20260421T133510Z
SUMMARY:4/5 Girls Basketball
URL;VALUE=URI:https://www.cusd201.org/manning/calendar/8851791/4-5-girls-ba
 sketball
DTSTART:20260305T204500Z
DTEND:20260305T214500Z
END:VEVENT
END:VCALENDAR
