BEGIN:VCALENDAR
VERSION:2.0
PRODID:SchoolNow
CALSCALE:GREGORIAN
BEGIN:VEVENT
UID:09413d40-05f4-11f1-be4e-0e598b931679
DTSTAMP:20260421T133510Z
SUMMARY:4/5 Girls Basketball
URL;VALUE=URI:https://www.cusd201.org/manning/calendar/8851793/4-5-girls-ba
 sketball
DTSTART:20260319T194500Z
DTEND:20260319T204500Z
END:VEVENT
END:VCALENDAR
