BEGIN:VCALENDAR
VERSION:2.0
PRODID:SchoolNow
CALSCALE:GREGORIAN
BEGIN:VEVENT
UID:094141c8-05f4-11f1-934c-0e598b931679
DTSTAMP:20260421T133510Z
SUMMARY:4/5 Boys Basketball
URL;VALUE=URI:https://www.cusd201.org/manning/calendar/8851798/4-5-boys-bas
 ketball
DTSTART:20260313T194500Z
DTEND:20260313T204500Z
END:VEVENT
END:VCALENDAR
