BEGIN:VCALENDAR
VERSION:2.0
PRODID:SchoolNow
CALSCALE:GREGORIAN
BEGIN:VEVENT
UID:0950221a-05f4-11f1-a58f-0e598b931679
DTSTAMP:20260421T133510Z
SUMMARY:4/5 Girls Basketball
URL;VALUE=URI:https://www.cusd201.org/manning/calendar/8851801/4-5-girls-ba
 sketball
DTSTART:20260223T204500Z
DTEND:20260223T214500Z
END:VEVENT
END:VCALENDAR
