BEGIN:VCALENDAR
VERSION:2.0
PRODID:SchoolNow
CALSCALE:GREGORIAN
BEGIN:VEVENT
UID:0950235a-05f4-11f1-a972-0e598b931679
DTSTAMP:20260421T133510Z
SUMMARY:4/5 Girls Basketball
URL;VALUE=URI:https://www.cusd201.org/manning/calendar/8851802/4-5-girls-ba
 sketball
DTSTART:20260302T204500Z
DTEND:20260302T214500Z
END:VEVENT
END:VCALENDAR
