BEGIN:VCALENDAR
VERSION:2.0
PRODID:SchoolNow
CALSCALE:GREGORIAN
BEGIN:VEVENT
UID:09502576-05f4-11f1-bfa5-0e598b931679
DTSTAMP:20260421T133510Z
SUMMARY:4/5 Girls Basketball
URL;VALUE=URI:https://www.cusd201.org/manning/calendar/8851804/4-5-girls-ba
 sketball
DTSTART:20260316T194500Z
DTEND:20260316T204500Z
END:VEVENT
END:VCALENDAR
