BEGIN:VCALENDAR
VERSION:2.0
PRODID:SchoolNow
CALSCALE:GREGORIAN
BEGIN:VEVENT
UID:095028e6-05f4-11f1-96b9-0e598b931679
DTSTAMP:20260421T133510Z
SUMMARY:4/5 Boys Basketball
URL;VALUE=URI:https://www.cusd201.org/manning/calendar/8851806/4-5-boys-bas
 ketball
DTSTART:20260217T204500Z
DTEND:20260217T214500Z
END:VEVENT
END:VCALENDAR
