BEGIN:VCALENDAR
VERSION:2.0
PRODID:SchoolNow
CALSCALE:GREGORIAN
BEGIN:VEVENT
UID:09502a3a-05f4-11f1-a9a1-0e598b931679
DTSTAMP:20260421T133510Z
SUMMARY:4/5 Boys Basketball
URL;VALUE=URI:https://www.cusd201.org/manning/calendar/8851807/4-5-boys-bas
 ketball
DTSTART:20260224T204500Z
DTEND:20260224T214500Z
END:VEVENT
END:VCALENDAR
