BEGIN:VCALENDAR
VERSION:2.0
PRODID:SchoolNow
CALSCALE:GREGORIAN
BEGIN:VEVENT
UID:09502c24-05f4-11f1-b3d5-0e598b931679
DTSTAMP:20260421T133510Z
SUMMARY:4/5 Boys Basketball
URL;VALUE=URI:https://www.cusd201.org/manning/calendar/8851809/4-5-boys-bas
 ketball
DTSTART:20260310T194500Z
DTEND:20260310T204500Z
END:VEVENT
END:VCALENDAR
