BEGIN:VCALENDAR
VERSION:2.0
PRODID:SchoolNow
CALSCALE:GREGORIAN
BEGIN:VEVENT
UID:bb477632-19ac-11f1-ae0a-0a58a9feac02
DTSTAMP:20260421T133510Z
SUMMARY:Chicken Wing Club
URL;VALUE=URI:https://www.cusd201.org/manning/calendar/8896986/chicken-wing
 -club
DTSTART:20260319T193000Z
DTEND:20260319T203000Z
END:VEVENT
END:VCALENDAR
