BEGIN:VCALENDAR
VERSION:2.0
PRODID:SchoolNow
CALSCALE:GREGORIAN
BEGIN:VEVENT
UID:8068039e-1e41-11f1-a159-0a58a9feac02
DTSTAMP:20260421T133510Z
SUMMARY:Rising Starts (Mil/Man PTO) Talent Show Performance
URL;VALUE=URI:https://www.cusd201.org/manning/calendar/8912978/rising-start
 s-mil-man-pto-talent-show-performance
DTSTART:20260319T220000Z
DTEND:20260320T020000Z
END:VEVENT
END:VCALENDAR
