BEGIN:VCALENDAR
VERSION:2.0
PRODID:SchoolNow
CALSCALE:GREGORIAN
BEGIN:VEVENT
UID:c8dc7bfa-2c65-11f1-92d7-0a58a9feac02
DTSTAMP:20260421T133510Z
SUMMARY:2nd/3rd  Grade Girls Basketball
URL;VALUE=URI:https://www.cusd201.org/manning/calendar/8957948/2nd-3rd-grad
 e-girls-basketball
DTSTART:20260507T194500Z
DTEND:20260507T204500Z
END:VEVENT
END:VCALENDAR
