BEGIN:VCALENDAR
VERSION:2.0
PRODID:SchoolNow
CALSCALE:GREGORIAN
BEGIN:VEVENT
UID:c8dc7d08-2c65-11f1-b904-0a58a9feac02
DTSTAMP:20260421T133510Z
SUMMARY:2nd/3rd Boys Basketball
URL;VALUE=URI:https://www.cusd201.org/manning/calendar/8957949/2nd-3rd-boys
 -basketball
DTSTART:20260501T194500Z
DTEND:20260501T204500Z
END:VEVENT
END:VCALENDAR
