BEGIN:VCALENDAR
VERSION:2.0
PRODID:SchoolNow
CALSCALE:GREGORIAN
BEGIN:VEVENT
UID:c8dc7fba-2c65-11f1-ab01-0a58a9feac02
DTSTAMP:20260421T133510Z
SUMMARY:Chicken Wings Club
URL;VALUE=URI:https://www.cusd201.org/manning/calendar/8957951/chicken-wing
 s-club
DTSTART:20260507T194500Z
DTEND:20260507T204500Z
END:VEVENT
END:VCALENDAR
