BEGIN:VCALENDAR
VERSION:2.0
PRODID:SchoolNow
CALSCALE:GREGORIAN
BEGIN:VEVENT
UID:c8dc8352-2c65-11f1-8379-0a58a9feac02
DTSTAMP:20260421T133510Z
SUMMARY:Chicken Nuggets Club
URL;VALUE=URI:https://www.cusd201.org/manning/calendar/8957954/chicken-nugg
 ets-club
DTSTART:20260416T194500Z
DTEND:20260416T204500Z
END:VEVENT
END:VCALENDAR
