BEGIN:VCALENDAR
VERSION:2.0
PRODID:SchoolNow
CALSCALE:GREGORIAN
BEGIN:VEVENT
UID:c8dc8582-2c65-11f1-97ac-0a58a9feac02
DTSTAMP:20260421T133510Z
SUMMARY:2nd/ 3rd Boys Basketball
URL;VALUE=URI:https://www.cusd201.org/manning/calendar/8957956/2nd-3rd-boys
 -basketball
DTSTART:20260414T194500Z
DTEND:20260414T204500Z
END:VEVENT
END:VCALENDAR
