BEGIN:VCALENDAR
VERSION:2.0
PRODID:SchoolNow
CALSCALE:GREGORIAN
BEGIN:VEVENT
UID:c8dc89e2-2c65-11f1-b67d-0a58a9feac02
DTSTAMP:20260421T133510Z
SUMMARY:2nd/3rd Grade Boys Basketball
URL;VALUE=URI:https://www.cusd201.org/manning/calendar/8957960/2nd-3rd-grad
 e-boys-basketball
DTSTART:20260512T194500Z
DTEND:20260512T204500Z
END:VEVENT
END:VCALENDAR
