BEGIN:VCALENDAR
VERSION:2.0
PRODID:SchoolNow
CALSCALE:GREGORIAN
BEGIN:VEVENT
UID:c8dc8e42-2c65-11f1-be9a-0a58a9feac02
DTSTAMP:20260421T133510Z
SUMMARY:2nd/3rd  Grade Girls Basketball
URL;VALUE=URI:https://www.cusd201.org/manning/calendar/8957964/2nd-3rd-grad
 e-girls-basketball
DTSTART:20260413T194500Z
DTEND:20260413T204500Z
END:VEVENT
END:VCALENDAR
