BEGIN:VCALENDAR
VERSION:2.0
PRODID:SchoolNow
CALSCALE:GREGORIAN
BEGIN:VEVENT
UID:c8dc916c-2c65-11f1-bda2-0a58a9feac02
DTSTAMP:20260421T133510Z
SUMMARY:2nd/ 3rd Boys Basketball
URL;VALUE=URI:https://www.cusd201.org/manning/calendar/8957966/2nd-3rd-boys
 -basketball
DTSTART:20260505T194500Z
DTEND:20260505T204500Z
END:VEVENT
END:VCALENDAR
