BEGIN:VCALENDAR
VERSION:2.0
PRODID:SchoolNow
CALSCALE:GREGORIAN
BEGIN:VEVENT
UID:c8dc92ac-2c65-11f1-a17e-0a58a9feac02
DTSTAMP:20260421T133510Z
SUMMARY:2nd/3rd Boys Basketball
URL;VALUE=URI:https://www.cusd201.org/manning/calendar/8957967/2nd-3rd-boys
 -basketball
DTSTART:20260508T194500Z
DTEND:20260508T204500Z
END:VEVENT
END:VCALENDAR
