BEGIN:VCALENDAR
VERSION:2.0
PRODID:SchoolNow
CALSCALE:GREGORIAN
BEGIN:VEVENT
UID:c8dc9392-2c65-11f1-90b2-0a58a9feac02
DTSTAMP:20260421T133510Z
SUMMARY:Chicken Nuggets Club
URL;VALUE=URI:https://www.cusd201.org/manning/calendar/8957968/chicken-nugg
 ets-club
DTSTART:20260430T194500Z
DTEND:20260430T204500Z
END:VEVENT
END:VCALENDAR
