BEGIN:VCALENDAR
VERSION:2.0
PRODID:SchoolNow
CALSCALE:GREGORIAN
BEGIN:VEVENT
UID:c8dc9554-2c65-11f1-9428-0a58a9feac02
DTSTAMP:20260421T133510Z
SUMMARY:Chicken Wings Club
URL;VALUE=URI:https://www.cusd201.org/manning/calendar/8957969/chicken-wing
 s-club
DTSTART:20260409T194500Z
DTEND:20260409T204500Z
END:VEVENT
END:VCALENDAR
