BEGIN:VCALENDAR
VERSION:2.0
PRODID:SchoolNow
CALSCALE:GREGORIAN
BEGIN:VEVENT
UID:7f13edce-322c-11f1-bdaa-0a58a9feac02
DTSTAMP:20260421T133510Z
SUMMARY:IAR Pep Rally
URL;VALUE=URI:https://www.cusd201.org/manning/calendar/8976019/iar-pep-rall
 y
DTSTART:20260407T175000Z
DTEND:20260407T181000Z
END:VEVENT
END:VCALENDAR
