BEGIN:VCALENDAR
VERSION:2.0
PRODID:SchoolNow
CALSCALE:GREGORIAN
BEGIN:VEVENT
UID:7877e0ea-3292-11f1-bf64-0a58a9feac02
DTSTAMP:20260421T133510Z
SUMMARY:STEM Club 2nd Grade Boys
URL;VALUE=URI:https://www.cusd201.org/manning/calendar/8977082/stem-club-2n
 d-grade-boys
DTSTART:20260407T194500Z
DTEND:20260407T204500Z
END:VEVENT
END:VCALENDAR
