BEGIN:VCALENDAR
VERSION:2.0
PRODID:SchoolNow
CALSCALE:GREGORIAN
BEGIN:VEVENT
UID:5461b862-355c-11f1-9878-0e77688de4bb
DTSTAMP:20260421T133510Z
SUMMARY:District Closed - Independence Day
URL;VALUE=URI:https://www.cusd201.org/manning/calendar/8985425/district-clo
 sed-independence-day
DTSTART;VALUE=DATE:20260704
DTEND;VALUE=DATE:20260705
END:VEVENT
END:VCALENDAR
