BEGIN:VCALENDAR
VERSION:2.0
PRODID:SchoolNow
CALSCALE:GREGORIAN
BEGIN:VEVENT
UID:54cb6d70-355c-11f1-8b26-0e77688de4bb
DTSTAMP:20260421T133510Z
SUMMARY:Elementary Summer School + Extended School Year (ESY)
URL;VALUE=URI:https://www.cusd201.org/manning/calendar/8985427/elementary-s
 ummer-school-extended-school-year-esy
DTSTART;VALUE=DATE:20260630
DTEND;VALUE=DATE:20260701
END:VEVENT
END:VCALENDAR
