BEGIN:VCALENDAR
VERSION:2.0
PRODID:SchoolNow
CALSCALE:GREGORIAN
BEGIN:VEVENT
UID:51a41312-358f-11f1-9f23-0a58a9feac02
DTSTAMP:20260421T194010Z
SUMMARY:P/T Conferences - No Student Attendance
URL;VALUE=URI:https://www.cusd201.org/manning/calendar/8985989/p-t-conferen
 ces-no-student-attendance
DTSTART;VALUE=DATE:20261008
DTEND;VALUE=DATE:20261009
END:VEVENT
END:VCALENDAR
