BEGIN:VCALENDAR
VERSION:2.0
PRODID:SchoolNow
CALSCALE:GREGORIAN
BEGIN:VEVENT
UID:51a4364e-358f-11f1-81a4-0a58a9feac02
DTSTAMP:20260421T194010Z
SUMMARY:Manning Halloween Parties
LOCATION:J T Manning Elementary School\, 200 N Linden Ave\, Westmont\, IL 6
 0559\, USA
URL;VALUE=URI:https://www.cusd201.org/manning/calendar/8985990/manning-hall
 oween-parties
DTSTART;VALUE=DATE:20261030
DTEND;VALUE=DATE:20261031
END:VEVENT
END:VCALENDAR
