BEGIN:VCALENDAR
VERSION:2.0
PRODID:SchoolNow
CALSCALE:GREGORIAN
BEGIN:VEVENT
UID:51a439be-358f-11f1-974f-0a58a9feac02
DTSTAMP:20260421T194010Z
SUMMARY:End Q1
URL;VALUE=URI:https://www.cusd201.org/manning/calendar/8985992/end-q1
DTSTART;VALUE=DATE:20261016
DTEND;VALUE=DATE:20261017
END:VEVENT
END:VCALENDAR
