BEGIN:VCALENDAR
VERSION:2.0
PRODID:SchoolNow
CALSCALE:GREGORIAN
BEGIN:VEVENT
UID:51a43b1c-358f-11f1-994c-0a58a9feac02
DTSTAMP:20260421T194010Z
SUMMARY:Kids Holiday Shop
LOCATION:C E Miller Elementary School\, 125 W Traube Ave\, Westmont\, IL 60
 559\, USA
URL;VALUE=URI:https://www.cusd201.org/manning/calendar/8985993/kids-holiday
 -shop
DTSTART:20261121T150000Z
DTEND:20261121T180000Z
END:VEVENT
END:VCALENDAR
