BEGIN:VCALENDAR
VERSION:2.0
PRODID:SchoolNow
CALSCALE:GREGORIAN
BEGIN:VEVENT
UID:51a43c16-358f-11f1-abfb-0a58a9feac02
DTSTAMP:20260422T014511Z
SUMMARY:PLC Dismissal Times (Check with your Building for time)
URL;VALUE=URI:https://www.cusd201.org/manning/calendar/8985994/plc-dismissa
 l-times-check-with-your-building-for-time
DTSTART;VALUE=DATE:20261218
DTEND;VALUE=DATE:20261219
END:VEVENT
END:VCALENDAR
