BEGIN:VCALENDAR
VERSION:2.0
PRODID:SchoolNow
CALSCALE:GREGORIAN
BEGIN:VEVENT
UID:51a43d2e-358f-11f1-9b48-0a58a9feac02
DTSTAMP:20260421T194010Z
SUMMARY:First Day of School - All K-12 Students
URL;VALUE=URI:https://www.cusd201.org/manning/calendar/8985995/first-day-of
 -school-all-k-12-students
DTSTART;VALUE=DATE:20260819
DTEND;VALUE=DATE:20260820
END:VEVENT
END:VCALENDAR
