BEGIN:VCALENDAR
VERSION:2.0
PRODID:SchoolNow
CALSCALE:GREGORIAN
BEGIN:VEVENT
UID:51a43e3c-358f-11f1-918c-0a58a9feac02
DTSTAMP:20260421T194010Z
SUMMARY:School Picture Retake Day
URL;VALUE=URI:https://www.cusd201.org/manning/calendar/8985996/school-pictu
 re-retake-day
DTSTART;VALUE=DATE:20261021
DTEND;VALUE=DATE:20261022
END:VEVENT
END:VCALENDAR
