BEGIN:VCALENDAR
VERSION:2.0
PRODID:SchoolNow
CALSCALE:GREGORIAN
BEGIN:VEVENT
UID:51a43fd6-358f-11f1-b9b1-0a58a9feac02
DTSTAMP:20260421T194010Z
SUMMARY:Manning 2nd Grade Step Up Night
LOCATION:J T Manning Elementary School\, 200 N Linden Ave\, Westmont\, IL 6
 0559\, USA
URL;VALUE=URI:https://www.cusd201.org/manning/calendar/8985997/manning-2nd-
 grade-step-up-night
DTSTART:20260812T220000Z
DTEND:20260812T230000Z
END:VEVENT
END:VCALENDAR
