BEGIN:VCALENDAR
VERSION:2.0
PRODID:SchoolNow
CALSCALE:GREGORIAN
BEGIN:VEVENT
UID:51a440d0-358f-11f1-a518-0a58a9feac02
DTSTAMP:20260421T194010Z
SUMMARY:Veterans Day - Classes In Session
URL;VALUE=URI:https://www.cusd201.org/manning/calendar/8985998/veterans-day
 -classes-in-session
DTSTART;VALUE=DATE:20261111
DTEND;VALUE=DATE:20261112
END:VEVENT
END:VCALENDAR
