BEGIN:VCALENDAR
VERSION:2.0
PRODID:SchoolNow
CALSCALE:GREGORIAN
BEGIN:VEVENT
UID:51a44274-358f-11f1-ac48-0a58a9feac02
DTSTAMP:20260422T014511Z
SUMMARY:District Closed - Christmas
URL;VALUE=URI:https://www.cusd201.org/manning/calendar/8985999/district-clo
 sed-christmas
DTSTART;VALUE=DATE:20261225
DTEND;VALUE=DATE:20261226
END:VEVENT
END:VCALENDAR
