BEGIN:VCALENDAR
VERSION:2.0
PRODID:SchoolNow
CALSCALE:GREGORIAN
BEGIN:VEVENT
UID:51a44490-358f-11f1-a653-0a58a9feac02
DTSTAMP:20260421T194010Z
SUMMARY:Manning 4th-5th Gr Concert
LOCATION:Westmont High School\, 909 Oakwood Dr\, Westmont\, IL 60559\, USA\
 , WHS-1-175 - Auditorium (700)
URL;VALUE=URI:https://www.cusd201.org/manning/calendar/8986001/manning-4th-
 5th-gr-concert
DTSTART:20261120T000000Z
DTEND:20261120T013000Z
END:VEVENT
END:VCALENDAR
