BEGIN:VCALENDAR
VERSION:2.0
PRODID:SchoolNow
CALSCALE:GREGORIAN
BEGIN:VEVENT
UID:51a445e4-358f-11f1-b210-0a58a9feac02
DTSTAMP:20260421T194010Z
SUMMARY:No School
URL;VALUE=URI:https://www.cusd201.org/manning/calendar/8986002/no-school
DTSTART;VALUE=DATE:20261009
DTEND;VALUE=DATE:20261010
END:VEVENT
END:VCALENDAR
