BEGIN:VCALENDAR
VERSION:2.0
PRODID:SchoolNow
CALSCALE:GREGORIAN
BEGIN:VEVENT
UID:51a4479c-358f-11f1-8254-0a58a9feac02
DTSTAMP:20260421T194010Z
SUMMARY:No School - Labor Day
URL;VALUE=URI:https://www.cusd201.org/manning/calendar/8986003/no-school-la
 bor-day
DTSTART;VALUE=DATE:20260907
DTEND;VALUE=DATE:20260908
END:VEVENT
END:VCALENDAR
