BEGIN:VCALENDAR
VERSION:2.0
PRODID:SchoolNow
CALSCALE:GREGORIAN
BEGIN:VEVENT
UID:51a448fa-358f-11f1-bd9e-0a58a9feac02
DTSTAMP:20260422T014512Z
SUMMARY:End Q2/S1
URL;VALUE=URI:https://www.cusd201.org/manning/calendar/8986004/end-q2-s1
DTSTART;VALUE=DATE:20261218
DTEND;VALUE=DATE:20261219
END:VEVENT
END:VCALENDAR
