BEGIN:VCALENDAR
VERSION:2.0
PRODID:SchoolNow
CALSCALE:GREGORIAN
BEGIN:VEVENT
UID:51a44b2a-358f-11f1-9da4-0a58a9feac02
DTSTAMP:20260421T194010Z
SUMMARY:Kids Holiday Shop
LOCATION:C E Miller Elementary School\, 125 W Traube Ave\, Westmont\, IL 60
 559\, USA
URL;VALUE=URI:https://www.cusd201.org/manning/calendar/8986006/kids-holiday
 -shop
DTSTART:20261120T233000Z
DTEND:20261121T010000Z
END:VEVENT
END:VCALENDAR
