BEGIN:VCALENDAR
VERSION:2.0
PRODID:SchoolNow
CALSCALE:GREGORIAN
BEGIN:VEVENT
UID:51a44daa-358f-11f1-b4a9-0a58a9feac02
DTSTAMP:20260421T194010Z
SUMMARY:SIP Day - Early Dismissal - Check w/school for times
URL;VALUE=URI:https://www.cusd201.org/manning/calendar/8986008/sip-day-earl
 y-dismissal-check-w-school-for-times
DTSTART;VALUE=DATE:20261007
DTEND;VALUE=DATE:20261008
END:VEVENT
END:VCALENDAR
