BEGIN:VCALENDAR
VERSION:2.0
PRODID:SchoolNow
CALSCALE:GREGORIAN
BEGIN:VEVENT
UID:51a44ecc-358f-11f1-87b6-0a58a9feac02
DTSTAMP:20260422T014512Z
SUMMARY:Institute Day - No Student Attendance
URL;VALUE=URI:https://www.cusd201.org/manning/calendar/8986009/institute-da
 y-no-student-attendance
DTSTART;VALUE=DATE:20270104
DTEND;VALUE=DATE:20270105
END:VEVENT
END:VCALENDAR
