BEGIN:VCALENDAR
VERSION:2.0
PRODID:SchoolNow
CALSCALE:GREGORIAN
BEGIN:VEVENT
UID:51a45002-358f-11f1-9385-0a58a9feac02
DTSTAMP:20260421T133510Z
SUMMARY:No School - Juneteenth Holiday
URL;VALUE=URI:https://www.cusd201.org/manning/calendar/8986010/no-school-ju
 neteenth-holiday
DTSTART;VALUE=DATE:20260619
DTEND;VALUE=DATE:20260620
END:VEVENT
END:VCALENDAR
