BEGIN:VCALENDAR
VERSION:2.0
PRODID:SchoolNow
CALSCALE:GREGORIAN
BEGIN:VEVENT
UID:51a45304-358f-11f1-8210-0a58a9feac02
DTSTAMP:20260421T194010Z
SUMMARY:School Picture Day
LOCATION:J T Manning Elementary School\, 200 N Linden Ave\, Westmont\, IL 6
 0559\, USA
URL;VALUE=URI:https://www.cusd201.org/manning/calendar/8986011/school-pictu
 re-day
DTSTART;VALUE=DATE:20260910
DTEND;VALUE=DATE:20260911
END:VEVENT
END:VCALENDAR
