BEGIN:VCALENDAR
VERSION:2.0
PRODID:SchoolNow
CALSCALE:GREGORIAN
BEGIN:VEVENT
UID:51a45494-358f-11f1-992d-0a58a9feac02
DTSTAMP:20260422T014512Z
SUMMARY:District Closed - New Years Day
URL;VALUE=URI:https://www.cusd201.org/manning/calendar/8986012/district-clo
 sed-new-years-day
DTSTART;VALUE=DATE:20270101
DTEND;VALUE=DATE:20270102
END:VEVENT
END:VCALENDAR
