BEGIN:VCALENDAR
VERSION:2.0
PRODID:SchoolNow
CALSCALE:GREGORIAN
BEGIN:VEVENT
UID:51a455a2-358f-11f1-95a1-0a58a9feac02
DTSTAMP:20260421T194010Z
SUMMARY:Supply Drop Off
LOCATION:J T Manning Elementary School\, 200 N Linden Ave\, Westmont\, IL 6
 0559\, USA
URL;VALUE=URI:https://www.cusd201.org/manning/calendar/8986013/supply-drop-
 off
DTSTART;VALUE=DATE:20260817
DTEND;VALUE=DATE:20260818
END:VEVENT
END:VCALENDAR
