BEGIN:VCALENDAR
VERSION:2.0
PRODID:SchoolNow
CALSCALE:GREGORIAN
BEGIN:VEVENT
UID:51efff34-358f-11f1-bcab-0a58a9feac02
DTSTAMP:20260421T194010Z
SUMMARY:Manning Curriculum Night
URL;VALUE=URI:https://www.cusd201.org/manning/calendar/8986014/manning-curr
 iculum-night
DTSTART:20260827T231500Z
DTEND:20260828T001500Z
END:VEVENT
END:VCALENDAR
