BEGIN:VCALENDAR
VERSION:2.0
PRODID:SchoolNow
CALSCALE:GREGORIAN
BEGIN:VEVENT
UID:51f007a4-358f-11f1-998f-0a58a9feac02
DTSTAMP:20260421T194010Z
SUMMARY:New Teacher Orientation
LOCATION:Community Unit Sch District No 201\, 133 S Grant St\, Westmont\, I
 L 60559\, USA\, South-1-Conference Room (50)
URL;VALUE=URI:https://www.cusd201.org/manning/calendar/8986015/new-teacher-
 orientation
DTSTART:20260811T130000Z
DTEND:20260811T200000Z
END:VEVENT
END:VCALENDAR
