BEGIN:VCALENDAR
VERSION:2.0
PRODID:SchoolNow
CALSCALE:GREGORIAN
BEGIN:VEVENT
UID:51f008e4-358f-11f1-a3c3-0a58a9feac02
DTSTAMP:20260421T194010Z
SUMMARY:New Teacher Orientation
LOCATION:Community Unit Sch District No 201\, 133 S Grant St\, Westmont\, I
 L 60559\, USA
URL;VALUE=URI:https://www.cusd201.org/manning/calendar/8986016/new-teacher-
 orientation
DTSTART:20260812T130000Z
DTEND:20260812T201500Z
END:VEVENT
END:VCALENDAR
